BEGIN:VCALENDAR
VERSION:2.0
PRODID:-//Gulf Islands Driftwood - ECPv6.15.17.1//NONSGML v1.0//EN
CALSCALE:GREGORIAN
METHOD:PUBLISH
X-WR-CALNAME:Gulf Islands Driftwood
X-ORIGINAL-URL:https://gulfislandsdriftwood.com
X-WR-CALDESC:Events for Gulf Islands Driftwood
REFRESH-INTERVAL;VALUE=DURATION:PT1H
X-Robots-Tag:noindex
X-PUBLISHED-TTL:PT1H
BEGIN:VTIMEZONE
TZID:America/Vancouver
BEGIN:DAYLIGHT
TZOFFSETFROM:-0800
TZOFFSETTO:-0700
TZNAME:PDT
DTSTART:20240310T100000
END:DAYLIGHT
BEGIN:STANDARD
TZOFFSETFROM:-0700
TZOFFSETTO:-0800
TZNAME:PST
DTSTART:20241103T090000
END:STANDARD
BEGIN:DAYLIGHT
TZOFFSETFROM:-0800
TZOFFSETTO:-0700
TZNAME:PDT
DTSTART:20250309T100000
END:DAYLIGHT
BEGIN:STANDARD
TZOFFSETFROM:-0700
TZOFFSETTO:-0800
TZNAME:PST
DTSTART:20251102T090000
END:STANDARD
BEGIN:DAYLIGHT
TZOFFSETFROM:-0800
TZOFFSETTO:-0700
TZNAME:PDT
DTSTART:20260308T100000
END:DAYLIGHT
BEGIN:STANDARD
TZOFFSETFROM:-0700
TZOFFSETTO:-0800
TZNAME:PST
DTSTART:20261101T090000
END:STANDARD
END:VTIMEZONE
BEGIN:VEVENT
DTSTART;TZID=America/Vancouver:20250328T153000
DTEND;TZID=America/Vancouver:20250328T163000
DTSTAMP:20260419T152307
CREATED:20250321T212340Z
LAST-MODIFIED:20250321T212340Z
UID:81008-1743175800-1743179400@gulfislandsdriftwood.com
SUMMARY:Artist in Residence: Calder White Rough Cut Performance
DESCRIPTION:Artist in Residence Calder White: Rough Cut Performance
URL:https://gulfislandsdriftwood.com/event/artist-in-residence-calder-white-rough-cut-performance/
LOCATION:ArtSpring
CATEGORIES:All Events,Dance
END:VEVENT
END:VCALENDAR