BEGIN:VCALENDAR
VERSION:2.0
PRODID:-//Gulf Islands Driftwood - ECPv6.15.17.1//NONSGML v1.0//EN
CALSCALE:GREGORIAN
METHOD:PUBLISH
X-ORIGINAL-URL:https://gulfislandsdriftwood.com
X-WR-CALDESC:Events for Gulf Islands Driftwood
REFRESH-INTERVAL;VALUE=DURATION:PT1H
X-Robots-Tag:noindex
X-PUBLISHED-TTL:PT1H
BEGIN:VTIMEZONE
TZID:America/Vancouver
BEGIN:DAYLIGHT
TZOFFSETFROM:-0800
TZOFFSETTO:-0700
TZNAME:PDT
DTSTART:20240310T100000
END:DAYLIGHT
BEGIN:STANDARD
TZOFFSETFROM:-0700
TZOFFSETTO:-0800
TZNAME:PST
DTSTART:20241103T090000
END:STANDARD
BEGIN:DAYLIGHT
TZOFFSETFROM:-0800
TZOFFSETTO:-0700
TZNAME:PDT
DTSTART:20250309T100000
END:DAYLIGHT
BEGIN:STANDARD
TZOFFSETFROM:-0700
TZOFFSETTO:-0800
TZNAME:PST
DTSTART:20251102T090000
END:STANDARD
BEGIN:DAYLIGHT
TZOFFSETFROM:-0800
TZOFFSETTO:-0700
TZNAME:PDT
DTSTART:20260308T100000
END:DAYLIGHT
BEGIN:STANDARD
TZOFFSETFROM:-0700
TZOFFSETTO:-0800
TZNAME:PST
DTSTART:20261101T090000
END:STANDARD
END:VTIMEZONE
BEGIN:VEVENT
DTSTART;TZID=America/Vancouver:20251017T193000
DTEND;TZID=America/Vancouver:20251017T193000
DTSTAMP:20260419T062735
CREATED:20251009T192045Z
LAST-MODIFIED:20251009T192045Z
UID:82654-1760729400-1760729400@gulfislandsdriftwood.com
SUMMARY:ArtSpring Presents: Hiromoto Ida: Vacant Lot
DESCRIPTION:In this poignant and poetic dance-theatre work by Hiromoto Ida (Shōgun\, The Man in the High Castle) a long-married couple revisits the now-empty lot where their family home once stood. What begins as a tender sharing of memories gradually opens into a meditation on time\, impermanence\, and the fragility of life itself. Inspired by Shogo Ota’s play SARACHI\, Vacant Lot blends movement\, dialogue\, and stillness to explore both the ache and absurdity of human existence. Dancers Lindsay Clague and Ida move through joy\, loss\, and humour with exquisite nuance\, embodying our collective longing for connection. At once intimate and expansive\, this work teeters between the everyday and the eternal—where each moment is both fleeting and infinite.
URL:https://gulfislandsdriftwood.com/event/artspring-presents-hiromoto-ida-vacant-lot/
LOCATION:ArtSpring
CATEGORIES:All Events,Dance,Stage
END:VEVENT
END:VCALENDAR