BEGIN:VCALENDAR
VERSION:2.0
PRODID:-//Gulf Islands Driftwood - ECPv6.15.17.1//NONSGML v1.0//EN
CALSCALE:GREGORIAN
METHOD:PUBLISH
X-WR-CALNAME:Gulf Islands Driftwood
X-ORIGINAL-URL:https://gulfislandsdriftwood.com
X-WR-CALDESC:Events for Gulf Islands Driftwood
REFRESH-INTERVAL;VALUE=DURATION:PT1H
X-Robots-Tag:noindex
X-PUBLISHED-TTL:PT1H
BEGIN:VTIMEZONE
TZID:America/Vancouver
BEGIN:DAYLIGHT
TZOFFSETFROM:-0800
TZOFFSETTO:-0700
TZNAME:PDT
DTSTART:20170312T100000
END:DAYLIGHT
BEGIN:STANDARD
TZOFFSETFROM:-0700
TZOFFSETTO:-0800
TZNAME:PST
DTSTART:20171105T090000
END:STANDARD
BEGIN:DAYLIGHT
TZOFFSETFROM:-0800
TZOFFSETTO:-0700
TZNAME:PDT
DTSTART:20180311T100000
END:DAYLIGHT
BEGIN:STANDARD
TZOFFSETFROM:-0700
TZOFFSETTO:-0800
TZNAME:PST
DTSTART:20181104T090000
END:STANDARD
BEGIN:DAYLIGHT
TZOFFSETFROM:-0800
TZOFFSETTO:-0700
TZNAME:PDT
DTSTART:20190310T100000
END:DAYLIGHT
BEGIN:STANDARD
TZOFFSETFROM:-0700
TZOFFSETTO:-0800
TZNAME:PST
DTSTART:20191103T090000
END:STANDARD
END:VTIMEZONE
BEGIN:VEVENT
DTSTART;TZID=America/Vancouver:20180823T130000
DTEND;TZID=America/Vancouver:20180823T150000
DTSTAMP:20260419T062903
CREATED:20180821T175751Z
LAST-MODIFIED:20180821T185039Z
UID:57541-1535029200-1535036400@gulfislandsdriftwood.com
SUMMARY:Library Book Club
DESCRIPTION:The Salt Spring Island Public Library book club\, open to all and free of charge\, meets from 1 – 3 pm on the fourth Thursday of each month. This month’s pick is The Secret Keeper by Kate Morton.
URL:https://gulfislandsdriftwood.com/event/57541/
LOCATION:Salt Spring Public Library Community Program Room\, 129 McPhillips Ave\, Salt Spring Island\, Canada
CATEGORIES:All Events,Literary
END:VEVENT
BEGIN:VEVENT
DTSTART;TZID=America/Vancouver:20180809T190000
DTEND;TZID=America/Vancouver:20180809T190000
DTSTAMP:20260419T062903
CREATED:20180720T230413Z
LAST-MODIFIED:20180720T230413Z
UID:57121-1533841200-1533841200@gulfislandsdriftwood.com
SUMMARY:Poetry Open Mic
DESCRIPTION:With featured poet Rayanne Haines\, who will read from her new collection called Stained with the Colours of Sunday Morning. 7 p.m.\, with featured poet at 7:30 p.m. Sign-up is at 6:45 p.m. One poem per reader.
URL:https://gulfislandsdriftwood.com/event/poetry-open-mic-4/
LOCATION:Salt Spring Public Library Community Program Room\, 129 McPhillips Ave\, Salt Spring Island\, Canada
CATEGORIES:All Events,Literary
END:VEVENT
BEGIN:VEVENT
DTSTART;TZID=America/Vancouver:20180728T130000
DTEND;TZID=America/Vancouver:20180728T130000
DTSTAMP:20260419T062903
CREATED:20180706T190543Z
LAST-MODIFIED:20180706T190543Z
UID:56853-1532782800-1532782800@gulfislandsdriftwood.com
SUMMARY:Aidan Cassie Book Launch        
DESCRIPTION:Join Salt Spring author/illustrator Aidan Cassie for the launch of her debut picture book\, Sterling\, Best Dog Ever. For all ages. \n 
URL:https://gulfislandsdriftwood.com/event/aidan-cassie-book-launch/
LOCATION:Salt Spring Public Library Community Program Room\, 129 McPhillips Ave\, Salt Spring Island\, Canada
CATEGORIES:All Events,For Kids,Literary
END:VEVENT
BEGIN:VEVENT
DTSTART;TZID=America/Vancouver:20180726T130000
DTEND;TZID=America/Vancouver:20180726T150000
DTSTAMP:20260419T062903
CREATED:20180719T222538Z
LAST-MODIFIED:20180719T222538Z
UID:57104-1532610000-1532617200@gulfislandsdriftwood.com
SUMMARY:Library Book Club
DESCRIPTION:The Salt Spring Island Public Library book club\, open to all and free of charge\, meets from 1 – 3 pm on the fourth Thursday of each month. Meet other book lovers and have fun discussing an interesting read. This month’s book is Old Filth by Jane Gardam.
URL:https://gulfislandsdriftwood.com/event/library-book-club-7/
LOCATION:Salt Spring Public Library Community Program Room\, 129 McPhillips Ave\, Salt Spring Island\, Canada
CATEGORIES:All Events,Literary
END:VEVENT
BEGIN:VEVENT
DTSTART;TZID=America/Vancouver:20180628T190000
DTEND;TZID=America/Vancouver:20180628T190000
DTSTAMP:20260419T062903
CREATED:20180518T200301Z
LAST-MODIFIED:20180518T200301Z
UID:55904-1530212400-1530212400@gulfislandsdriftwood.com
SUMMARY:Book Launch: Danielle Blackwood
DESCRIPTION:Local author Danielle Blackwood reads from The Twelve Faces of the Goddess: Transform Your Life with Astrology\, Magick and the Sacred Feminine. SS Public Library. 7 p.m. 
URL:https://gulfislandsdriftwood.com/event/book-launch-danielle-blackwood/
LOCATION:Salt Spring Public Library Community Program Room\, 129 McPhillips Ave\, Salt Spring Island\, Canada
CATEGORIES:All Events,Literary
END:VEVENT
BEGIN:VEVENT
DTSTART;TZID=America/Vancouver:20180628T153000
DTEND;TZID=America/Vancouver:20180628T153000
DTSTAMP:20260419T062903
CREATED:20180626T192350Z
LAST-MODIFIED:20180626T192350Z
UID:56586-1530199800-1530199800@gulfislandsdriftwood.com
SUMMARY:Book Launch: Gary Karlsen
DESCRIPTION:Traveller and author Gary Karlsen shares memoir No Ordinary Seaman\, moving from southwest coastal BC to tracing his Norwegian roots. Library program room. 3:30 p.m.
URL:https://gulfislandsdriftwood.com/event/book-launch-gary-karlsen/
LOCATION:Salt Spring Public Library Community Program Room\, 129 McPhillips Ave\, Salt Spring Island\, Canada
CATEGORIES:All Events,Literary
END:VEVENT
BEGIN:VEVENT
DTSTART;TZID=America/Vancouver:20180628T130000
DTEND;TZID=America/Vancouver:20180628T150000
DTSTAMP:20260419T062903
CREATED:20180518T200137Z
LAST-MODIFIED:20180518T200137Z
UID:55902-1530190800-1530198000@gulfislandsdriftwood.com
SUMMARY:Library Book Club
DESCRIPTION:This month’s book is The Hiding Place by Trezza Azzopardi. The Salt Spring Island Public Library book club\, open to all and free of charge\, meets from 1 – 3 pm on the fourth Thursday of each month. Meet other book lovers and have fun discussing an interesting read.
URL:https://gulfislandsdriftwood.com/event/library-book-club-6/
LOCATION:Salt Spring Public Library Community Program Room\, 129 McPhillips Ave\, Salt Spring Island\, Canada
CATEGORIES:All Events,Literary
END:VEVENT
BEGIN:VEVENT
DTSTART;TZID=America/Vancouver:20180622T160000
DTEND;TZID=America/Vancouver:20180622T173000
DTSTAMP:20260419T062903
CREATED:20180518T200016Z
LAST-MODIFIED:20180615T223709Z
UID:55900-1529683200-1529688600@gulfislandsdriftwood.com
SUMMARY:Book Launch: Linda Rogers + Kimberly Dark
DESCRIPTION:Kimberly Dark releases her first collection of poetry\, Love and Errors\, and Linda Rogers shared incandescent stories in Crow Jazz. Salt Spring Public Library Program Room. 4 p.m.
URL:https://gulfislandsdriftwood.com/event/book-launch-linda-rogers/
LOCATION:Salt Spring Public Library Community Program Room\, 129 McPhillips Ave\, Salt Spring Island\, Canada
CATEGORIES:All Events,Literary
END:VEVENT
BEGIN:VEVENT
DTSTART;TZID=America/Vancouver:20180620T190000
DTEND;TZID=America/Vancouver:20180620T190000
DTSTAMP:20260419T062903
CREATED:20180612T001326Z
LAST-MODIFIED:20180612T001326Z
UID:56333-1529521200-1529521200@gulfislandsdriftwood.com
SUMMARY:Book Launch: Chris Humphreys
DESCRIPTION:Salt Spring author Chris Humphreys launches Chasing the Wind\, which Diana Gabaldon\, author of Outlander\, calls “a barrel rolling barn burner of a book.”  \nSalt Spring Public Library Program Room. 7 p.m. \n  \n 
URL:https://gulfislandsdriftwood.com/event/book-launch-chris-humphreys/
LOCATION:Salt Spring Public Library Community Program Room\, 129 McPhillips Ave\, Salt Spring Island\, Canada
CATEGORIES:All Events,Literary
END:VEVENT
BEGIN:VEVENT
DTSTART;TZID=America/Vancouver:20180619T190000
DTEND;TZID=America/Vancouver:20180619T190000
DTSTAMP:20260419T062903
CREATED:20180518T195811Z
LAST-MODIFIED:20180518T195811Z
UID:55898-1529434800-1529434800@gulfislandsdriftwood.com
SUMMARY:Book Launch: Robert Hilles
DESCRIPTION:Award-winning Salt Spring poet and novelist Robert Hilles reads from his new book of poetry called Line. Salt Spring Public Library. 7 p.m.
URL:https://gulfislandsdriftwood.com/event/book-launch-robert-hilles/
LOCATION:Salt Spring Public Library Community Program Room\, 129 McPhillips Ave\, Salt Spring Island\, Canada
CATEGORIES:All Events,Literary
END:VEVENT
BEGIN:VEVENT
DTSTART;TZID=America/Vancouver:20180616T150000
DTEND;TZID=America/Vancouver:20180616T150000
DTSTAMP:20260419T062903
CREATED:20180518T195425Z
LAST-MODIFIED:20180525T181945Z
UID:55894-1529161200-1529161200@gulfislandsdriftwood.com
SUMMARY:Book Launch: John Bateman
DESCRIPTION:Salt Spring writer John Bateman launches his book called Salt Spring Has Issues at the SS Public Library. 3 p.m.
URL:https://gulfislandsdriftwood.com/event/book-launch-john-bateman/
LOCATION:Salt Spring Public Library Community Program Room\, 129 McPhillips Ave\, Salt Spring Island\, Canada
CATEGORIES:All Events,Literary
END:VEVENT
BEGIN:VEVENT
DTSTART;TZID=America/Vancouver:20180607T190000
DTEND;TZID=America/Vancouver:20180607T190000
DTSTAMP:20260419T062903
CREATED:20180518T195556Z
LAST-MODIFIED:20180518T195556Z
UID:55896-1528398000-1528398000@gulfislandsdriftwood.com
SUMMARY:Poetry Open Mic
DESCRIPTION:With featured poets Barbara Pelman and ulrike narwani. SS Public Library. 7 p.m. Open mic sign-up begins at 6:45 p.m. One poem per reader. 
URL:https://gulfislandsdriftwood.com/event/poetry-open-mic-3/
LOCATION:Salt Spring Public Library Community Program Room\, 129 McPhillips Ave\, Salt Spring Island\, Canada
CATEGORIES:All Events,Literary
END:VEVENT
BEGIN:VEVENT
DTSTART;TZID=America/Vancouver:20180602T150000
DTEND;TZID=America/Vancouver:20180602T150000
DTSTAMP:20260419T062903
CREATED:20180525T182121Z
LAST-MODIFIED:20180525T182121Z
UID:56051-1527951600-1527951600@gulfislandsdriftwood.com
SUMMARY:Anthony Bruce Book Launch
DESCRIPTION:Anthony (Tony) Bruce launches his latest book\, To Seek the Wind of Sorrow\, at the Salt Spring Public Library. 3 p.m.
URL:https://gulfislandsdriftwood.com/event/anthony-bruce-book-launch/
LOCATION:Salt Spring Public Library Community Program Room\, 129 McPhillips Ave\, Salt Spring Island\, Canada
CATEGORIES:All Events,Literary
END:VEVENT
BEGIN:VEVENT
DTSTART;TZID=America/Vancouver:20180531T190000
DTEND;TZID=America/Vancouver:20180531T190000
DTSTAMP:20260419T062903
CREATED:20180323T174218Z
LAST-MODIFIED:20180323T174218Z
UID:54859-1527793200-1527793200@gulfislandsdriftwood.com
SUMMARY:Book Launch: Patrick Friesen and Eve Joseph
DESCRIPTION:Poetry event: Patrick Friesen launches Songen\, and Eve Joseph launches Quarrels. Salt Spring Public Library. 7 p.m. 
URL:https://gulfislandsdriftwood.com/event/book-launch-patrick-friesen-and-eve-joseph/
LOCATION:Salt Spring Public Library Community Program Room\, 129 McPhillips Ave\, Salt Spring Island\, Canada
CATEGORIES:All Events,Literary
END:VEVENT
BEGIN:VEVENT
DTSTART;TZID=America/Vancouver:20180524T130000
DTEND;TZID=America/Vancouver:20180524T150000
DTSTAMP:20260419T062903
CREATED:20180323T173757Z
LAST-MODIFIED:20180323T173757Z
UID:54857-1527166800-1527174000@gulfislandsdriftwood.com
SUMMARY:Library Book Club
DESCRIPTION:Today’s pick is  All the Light We Cannot See by Anthony Doerr. The Salt Spring Island Public Library book club\, open to all and free of charge\, meets from 1 – 3 pm on the fourth Thursday of each month. Meet other book lovers and have fun discussing an interesting read.
URL:https://gulfislandsdriftwood.com/event/library-book-club-5/
LOCATION:Salt Spring Public Library Community Program Room\, 129 McPhillips Ave\, Salt Spring Island\, Canada
CATEGORIES:All Events,Literary
END:VEVENT
BEGIN:VEVENT
DTSTART;TZID=America/Vancouver:20180523T190000
DTEND;TZID=America/Vancouver:20180523T190000
DTSTAMP:20260419T062903
CREATED:20180323T173629Z
LAST-MODIFIED:20180323T173629Z
UID:54855-1527102000-1527102000@gulfislandsdriftwood.com
SUMMARY:Author Event: Peter Robinson
DESCRIPTION:Canadian mystery writer Peter Robinson discusses his Detective Chief Inspector Alan Banks series. Salt Spring Public Library Program Room. 7 p.m. 
URL:https://gulfislandsdriftwood.com/event/author-event-peter-robinson/
LOCATION:Salt Spring Public Library Community Program Room\, 129 McPhillips Ave\, Salt Spring Island\, Canada
CATEGORIES:All Events,Literary
END:VEVENT
BEGIN:VEVENT
DTSTART;TZID=America/Vancouver:20180514T190000
DTEND;TZID=America/Vancouver:20180514T190000
DTSTAMP:20260419T062903
CREATED:20180508T171626Z
LAST-MODIFIED:20180508T171626Z
UID:55568-1526324400-1526324400@gulfislandsdriftwood.com
SUMMARY:Poetry Reading with Charlotte Erlandsson
DESCRIPTION:Charlotte Erlandsson presents My Story is Long\, in concert with art exhibition now showing at Salt Spring Gallery. 7 p.m.
URL:https://gulfislandsdriftwood.com/event/poetry-reading-with-charlotte-erlandsson/
LOCATION:Salt Spring Gallery\, 135 McPhillips Avenue\, Salt Spring Island\, BC\, V8K 1J6\, Canada
CATEGORIES:All Events,Literary,Visual Arts
END:VEVENT
BEGIN:VEVENT
DTSTART;TZID=America/Vancouver:20180508T190000
DTEND;TZID=America/Vancouver:20180508T190000
DTSTAMP:20260419T062903
CREATED:20180323T173516Z
LAST-MODIFIED:20180323T173516Z
UID:54853-1525806000-1525806000@gulfislandsdriftwood.com
SUMMARY:Book Launch: Donna Kane
DESCRIPTION:Donna Kane shares her literary memoir called Summer of the Horse. Salt Spring Public Library Program Room. 7 p.m.
URL:https://gulfislandsdriftwood.com/event/book-launch-donna-kane/
LOCATION:Salt Spring Public Library Community Program Room\, 129 McPhillips Ave\, Salt Spring Island\, Canada
CATEGORIES:All Events,Literary
END:VEVENT
BEGIN:VEVENT
DTSTART;TZID=America/Vancouver:20180503T190000
DTEND;TZID=America/Vancouver:20180503T190000
DTSTAMP:20260419T062903
CREATED:20180323T173148Z
LAST-MODIFIED:20180323T173148Z
UID:54849-1525374000-1525374000@gulfislandsdriftwood.com
SUMMARY:Poetry Open Mic
DESCRIPTION:Featured poet is Wendy Donawa. Victoria poet Wendy Donawa is a contributing editor for Arc Poetry Magazine\, and her poems have appeared in journals\, anthologies\, and three chapbooks. Elegiac and incisive\, her collection Thin Air of the Knowable unpacks the light and dark of daily life in the larger context of humanity’s griefs and quandaries.  \nSalt Spring Public Library. Sign-up at 6:45 p.m. One poem per reader. Open mic starts at 7 p.m. Featured poet at 7:30 p.m.
URL:https://gulfislandsdriftwood.com/event/poetry-open-mic-2/
LOCATION:Salt Spring Public Library Community Program Room\, 129 McPhillips Ave\, Salt Spring Island\, Canada
CATEGORIES:All Events,Literary
END:VEVENT
BEGIN:VEVENT
DTSTART;TZID=America/Vancouver:20180426T130000
DTEND;TZID=America/Vancouver:20180426T150000
DTSTAMP:20260419T062903
CREATED:20180323T172931Z
LAST-MODIFIED:20180323T173940Z
UID:54847-1524747600-1524754800@gulfislandsdriftwood.com
SUMMARY:Library Book Club
DESCRIPTION:This month’s pick is West with the Night by Beryl Markham. The Salt Spring Island Public Library book club\, open to all and free of charge\, meets from 1-3 pm on the fourth Thursday of each month.
URL:https://gulfislandsdriftwood.com/event/library-book-club-4/
LOCATION:Salt Spring Public Library Community Program Room\, 129 McPhillips Ave\, Salt Spring Island\, Canada
CATEGORIES:All Events,Literary
END:VEVENT
BEGIN:VEVENT
DTSTART;TZID=America/Vancouver:20180425T190000
DTEND;TZID=America/Vancouver:20180425T190000
DTSTAMP:20260419T062903
CREATED:20180323T172803Z
LAST-MODIFIED:20180323T172803Z
UID:54845-1524682800-1524682800@gulfislandsdriftwood.com
SUMMARY:Book Reading: Writing the Coast
DESCRIPTION:Featuring Yvonne Blomer\, editor Of Refugium: Poems for the Pacific and Johanna Streetly\, author Of Wild Fierce Life: Dangerous Moments on the Outer Coast. Salt Spring Public Library Program Room. 7 p.m. 
URL:https://gulfislandsdriftwood.com/event/book-reading-writing-the-coast/
LOCATION:Salt Spring Public Library Community Program Room\, 129 McPhillips Ave\, Salt Spring Island\, Canada
CATEGORIES:All Events,Literary
END:VEVENT
BEGIN:VEVENT
DTSTART;TZID=America/Vancouver:20180421T140000
DTEND;TZID=America/Vancouver:20180421T160000
DTSTAMP:20260419T062903
CREATED:20180323T172621Z
LAST-MODIFIED:20180323T172621Z
UID:54843-1524319200-1524326400@gulfislandsdriftwood.com
SUMMARY:Book Launch: Krista Thornhill
DESCRIPTION:Salt Spring resident Krista Thornhill launches Earth Journey: A Guide to Living with the Seasons. Salt Spring Public Library. 2 p.m.
URL:https://gulfislandsdriftwood.com/event/book-launch-krista-thornhill/
LOCATION:Salt Spring Public Library Community Program Room\, 129 McPhillips Ave\, Salt Spring Island\, Canada
CATEGORIES:All Events,Literary
END:VEVENT
BEGIN:VEVENT
DTSTART;TZID=America/Vancouver:20180418T190000
DTEND;TZID=America/Vancouver:20180418T190000
DTSTAMP:20260419T062903
CREATED:20180323T172435Z
LAST-MODIFIED:20180323T172435Z
UID:54841-1524078000-1524078000@gulfislandsdriftwood.com
SUMMARY:Book Launch: Dan Jason
DESCRIPTION:Dan Jason launches Awesome Ancient Grains & Seeds. Salt Spring Public Library Program Room. 7 p.m.
URL:https://gulfislandsdriftwood.com/event/book-launch-dan-jason/
LOCATION:Salt Spring Public Library Community Program Room\, 129 McPhillips Ave\, Salt Spring Island\, Canada
CATEGORIES:All Events,Literary
END:VEVENT
BEGIN:VEVENT
DTSTART;TZID=America/Vancouver:20180412T190000
DTEND;TZID=America/Vancouver:20180412T190000
DTSTAMP:20260419T062903
CREATED:20180323T171933Z
LAST-MODIFIED:20180323T171933Z
UID:54837-1523559600-1523559600@gulfislandsdriftwood.com
SUMMARY:Book Launch: Pauline La Bel
DESCRIPTION:Pauline La Bel from Bowen Island presents Whale in the Door. Salt Spring Public Library Program Room. 7 p.m.
URL:https://gulfislandsdriftwood.com/event/book-launch-pauline-la-bel/
LOCATION:Salt Spring Public Library Community Program Room\, 129 McPhillips Ave\, Salt Spring Island\, Canada
CATEGORIES:All Events,Literary
END:VEVENT
BEGIN:VEVENT
DTSTART;TZID=America/Vancouver:20180408T130000
DTEND;TZID=America/Vancouver:20180408T130000
DTSTAMP:20260419T062903
CREATED:20180317T012458Z
LAST-MODIFIED:20180317T012458Z
UID:54669-1523192400-1523192400@gulfislandsdriftwood.com
SUMMARY:Book Launch for Breaking Boundaries: LGBTQ2 Writers on Coming Out and Into Canada
DESCRIPTION:Anthology of pieces by Canadian authors with contributions by Salt Spring writers Wendy Judith Cutler and Corrie Hope Furst. SS Public Library Program Room. 1 p.m. 
URL:https://gulfislandsdriftwood.com/event/book-launch-for-breaking-boundaries-lgbtq2-writers-on-coming-out-and-into-canada/
LOCATION:Salt Spring Public Library Community Program Room\, 129 McPhillips Ave\, Salt Spring Island\, Canada
CATEGORIES:All Events,Literary
END:VEVENT
BEGIN:VEVENT
DTSTART;TZID=America/Vancouver:20180407T150000
DTEND;TZID=America/Vancouver:20180407T150000
DTSTAMP:20260419T062903
CREATED:20180317T012209Z
LAST-MODIFIED:20180317T012209Z
UID:54667-1523113200-1523113200@gulfislandsdriftwood.com
SUMMARY:Literary Event With Lou McKee
DESCRIPTION:Bellingham author presents Klee Wyck Journal at the Salt Spring Public Library Program Room. 3 p.m.
URL:https://gulfislandsdriftwood.com/event/literary-event-with-lou-mckee/
LOCATION:Salt Spring Public Library Community Program Room\, 129 McPhillips Ave\, Salt Spring Island\, Canada
CATEGORIES:All Events,Literary
END:VEVENT
BEGIN:VEVENT
DTSTART;TZID=America/Vancouver:20180405T190000
DTEND;TZID=America/Vancouver:20180405T190000
DTSTAMP:20260419T062903
CREATED:20180317T012009Z
LAST-MODIFIED:20180317T012009Z
UID:54665-1522954800-1522954800@gulfislandsdriftwood.com
SUMMARY:Poetry Open Mic
DESCRIPTION:With featured poet Lottie Devindisch at the Salt Spring Public Library Program Room. 7 p.m. with sign-up at 6:45 p.m. One poem per reader. Featured poet reads at 7:30 p.m.
URL:https://gulfislandsdriftwood.com/event/poetry-open-mic/
LOCATION:Salt Spring Public Library Community Program Room\, 129 McPhillips Ave\, Salt Spring Island\, Canada
CATEGORIES:All Events,Literary
END:VEVENT
BEGIN:VEVENT
DTSTART;TZID=America/Vancouver:20180322T130000
DTEND;TZID=America/Vancouver:20180322T150000
DTSTAMP:20260419T062903
CREATED:20180304T200316Z
LAST-MODIFIED:20180304T200316Z
UID:54477-1521723600-1521730800@gulfislandsdriftwood.com
SUMMARY:Library Book Club
DESCRIPTION:This month’s book is Folly by Laurie R. King. Salt Spring Public Library. 1 to 3 p.m.  \nThe Salt Spring Island Public Library book club\, open to all and free of charge\, meets from 1 to 3 pm on the fourth Thursday of each month. Meet other book lovers and have fun discussing an interesting read. \n 
URL:https://gulfislandsdriftwood.com/event/library-book-club-3/
LOCATION:Salt Spring Public Library Community Program Room\, 129 McPhillips Ave\, Salt Spring Island\, Canada
CATEGORIES:All Events,Literary
END:VEVENT
BEGIN:VEVENT
DTSTART;TZID=America/Vancouver:20180318T193000
DTEND;TZID=America/Vancouver:20180318T193000
DTSTAMP:20260419T062903
CREATED:20180313T154447Z
LAST-MODIFIED:20180313T154447Z
UID:54575-1521401400-1521401400@gulfislandsdriftwood.com
SUMMARY:Salt Spring Forum: Kate Harris\, Author of Lands of Lost Borders
DESCRIPTION:Kate Harris\, the author of the new travel memoir Lands of Lost Borders\, joins the Salt Spring Forum for a wide-ranging conversation about writing\, travel\, and much more. ArtSpring gallery. 7:30 p.m.  \nCycling the Silk Road first in western China and then from Turkey to the Himalayas – and crossing all kinds of borders – Harris’ book weaves adventure and deep reflection with the history of science and exploration.
URL:https://gulfislandsdriftwood.com/event/salt-spring-forum-kate-harris-author-of-lands-of-lost-borders/
LOCATION:ArtSpring\, 100 Jackson Avenue\, Ganges\, Salt Spring Island\, British Columbia\, V8K 2V8
CATEGORIES:All Events,Literary
END:VEVENT
BEGIN:VEVENT
DTSTART;TZID=America/Vancouver:20180201T190000
DTEND;TZID=America/Vancouver:20180201T190000
DTSTAMP:20260419T062903
CREATED:20180123T175820Z
LAST-MODIFIED:20180123T175820Z
UID:53542-1517511600-1517511600@gulfislandsdriftwood.com
SUMMARY:Open Poetry Mic with Christine Lowther
DESCRIPTION:Salt Spring Public Library. Reader sign-up 6:45 p.m.\, open mic at 7 and reading by guest poet at 7:30.
URL:https://gulfislandsdriftwood.com/event/open-poetry-mic-with-christine-lowther/
LOCATION:Salt Spring Public Library Community Program Room\, 129 McPhillips Ave\, Salt Spring Island\, Canada
CATEGORIES:All Events,Literary
END:VEVENT
END:VCALENDAR