BEGIN:VCALENDAR
VERSION:2.0
PRODID:-//Gulf Islands Driftwood - ECPv6.15.17.1//NONSGML v1.0//EN
CALSCALE:GREGORIAN
METHOD:PUBLISH
X-WR-CALNAME:Gulf Islands Driftwood
X-ORIGINAL-URL:https://gulfislandsdriftwood.com
X-WR-CALDESC:Events for Gulf Islands Driftwood
REFRESH-INTERVAL;VALUE=DURATION:PT1H
X-Robots-Tag:noindex
X-PUBLISHED-TTL:PT1H
BEGIN:VTIMEZONE
TZID:America/Vancouver
BEGIN:DAYLIGHT
TZOFFSETFROM:-0800
TZOFFSETTO:-0700
TZNAME:PDT
DTSTART:20230312T100000
END:DAYLIGHT
BEGIN:STANDARD
TZOFFSETFROM:-0700
TZOFFSETTO:-0800
TZNAME:PST
DTSTART:20231105T090000
END:STANDARD
BEGIN:DAYLIGHT
TZOFFSETFROM:-0800
TZOFFSETTO:-0700
TZNAME:PDT
DTSTART:20240310T100000
END:DAYLIGHT
BEGIN:STANDARD
TZOFFSETFROM:-0700
TZOFFSETTO:-0800
TZNAME:PST
DTSTART:20241103T090000
END:STANDARD
BEGIN:DAYLIGHT
TZOFFSETFROM:-0800
TZOFFSETTO:-0700
TZNAME:PDT
DTSTART:20250309T100000
END:DAYLIGHT
BEGIN:STANDARD
TZOFFSETFROM:-0700
TZOFFSETTO:-0800
TZNAME:PST
DTSTART:20251102T090000
END:STANDARD
END:VTIMEZONE
BEGIN:VEVENT
DTSTART;VALUE=DATE:20240422
DTEND;VALUE=DATE:20240423
DTSTAMP:20260419T144430
CREATED:20240322T154226Z
LAST-MODIFIED:20240322T154226Z
UID:78816-1713744000-1713830399@gulfislandsdriftwood.com
SUMMARY:20th Anniversary Solidarity Quilt Display
DESCRIPTION:See travelling quilt created by members of Grandmothers to Grandmothers groups across Canada and women in Africa\, marking 20 years of the Grandmothers Campaign of the Stephen Lewis Foundation. Will be displayed at Mouat’s Clothing in Ganges from April 22 to 25.
URL:https://gulfislandsdriftwood.com/event/20th-anniversary-solidarity-quilt-display/
LOCATION:Mouat’s Clothing\, 101 Purvis Lane\, Salt Spring Island\, BC\, V8K 2S3\, Canada
CATEGORIES:All Events,Community,Visual Arts
END:VEVENT
END:VCALENDAR