BEGIN:VCALENDAR
VERSION:2.0
PRODID:-//Gulf Islands Driftwood - ECPv6.15.17.1//NONSGML v1.0//EN
CALSCALE:GREGORIAN
METHOD:PUBLISH
X-WR-CALNAME:Gulf Islands Driftwood
X-ORIGINAL-URL:https://gulfislandsdriftwood.com
X-WR-CALDESC:Events for Gulf Islands Driftwood
REFRESH-INTERVAL;VALUE=DURATION:PT1H
X-Robots-Tag:noindex
X-PUBLISHED-TTL:PT1H
BEGIN:VTIMEZONE
TZID:America/Vancouver
BEGIN:DAYLIGHT
TZOFFSETFROM:-0800
TZOFFSETTO:-0700
TZNAME:PDT
DTSTART:20240310T100000
END:DAYLIGHT
BEGIN:STANDARD
TZOFFSETFROM:-0700
TZOFFSETTO:-0800
TZNAME:PST
DTSTART:20241103T090000
END:STANDARD
BEGIN:DAYLIGHT
TZOFFSETFROM:-0800
TZOFFSETTO:-0700
TZNAME:PDT
DTSTART:20250309T100000
END:DAYLIGHT
BEGIN:STANDARD
TZOFFSETFROM:-0700
TZOFFSETTO:-0800
TZNAME:PST
DTSTART:20251102T090000
END:STANDARD
BEGIN:DAYLIGHT
TZOFFSETFROM:-0800
TZOFFSETTO:-0700
TZNAME:PDT
DTSTART:20260308T100000
END:DAYLIGHT
BEGIN:STANDARD
TZOFFSETFROM:-0700
TZOFFSETTO:-0800
TZNAME:PST
DTSTART:20261101T090000
END:STANDARD
END:VTIMEZONE
BEGIN:VEVENT
DTSTART;TZID=America/Vancouver:20250717T180000
DTEND;TZID=America/Vancouver:20250717T200000
DTSTAMP:20260419T223546
CREATED:20250711T161151Z
LAST-MODIFIED:20250711T161151Z
UID:81947-1752775200-1752782400@gulfislandsdriftwood.com
SUMMARY:Summer Outdoor Concert Series: Melón Jiménez & Lara Wong
DESCRIPTION:Flamenco guitar and jazz flute duo\, with opening act Two Pants Trio. Centennial Park. 6 to 8 p.m. Free/by donation event presented by Salt Spring Arts.
URL:https://gulfislandsdriftwood.com/event/summer-outdoor-concert-series-melon-jimenez-lara-wong/
LOCATION:Centennial Park
CATEGORIES:All Events,Concerts
END:VEVENT
END:VCALENDAR